BEGIN:VCALENDAR
VERSION:2.0
PRODID:-//Squarespace Inc/Squarespace 6//v6//EN
BEGIN:VEVENT
UID:5994645c579fb37a1d5ee779@squarespace.com
DTSTAMP:20170825T233630Z
DTSTART:20170913T173000Z
DTEND:20170913T200000Z
SUMMARY:Mondello Park Winter Training
END:VEVENT
END:VCALENDAR
