BEGIN:VCALENDAR
VERSION:2.0
PRODID:-//Squarespace Inc/Squarespace 6//v6//EN
BEGIN:VEVENT
UID:59946428e58c62e7859ee008@squarespace.com
DTSTAMP:20170901T124518Z
DTSTART:20170927T173000Z
DTEND:20170927T200000Z
SUMMARY:Mondello Park Winter Training
END:VEVENT
END:VCALENDAR
