BEGIN:VCALENDAR
VERSION:2.0
PRODID:-//Squarespace Inc/Squarespace 6//v6//EN
BEGIN:VEVENT
UID:59a0b39bcd0f681bc9d8629d@squarespace.com
DTSTAMP:20170825T233702Z
DTSTART:20170920T173000Z
DTEND:20170920T193000Z
SUMMARY:Winter Training
GEO:53.257537;-6.746048
LOCATION:Mondello Park
END:VEVENT
END:VCALENDAR
